BEGIN:VCALENDAR
VERSION:2.0
PRODID:-//InStaff und Jobs GmbH
BEGIN:VEVENT
UID:1aa28582508cb480b3393ff65bac68e4@instaff.jobs
DTSTAMP:20260423T031555Z
LOCATION:Messe München\, Messegelände\, 81823 München
DTSTART;TZID=Europe/Brussels:20270212T070000Z
DTEND;TZID=Europe/Brussels:20270214T160000Z
SUMMARY:IMOT 2027
DESCRIPTION:https://www.google.com/maps/search/?api=1&query=Messe+München%2C+Messegelände%2C+81823+München
END:VEVENT
END:VCALENDAR