BEGIN:VCALENDAR
VERSION:2.0
PRODID:-//InStaff und Jobs GmbH
BEGIN:VEVENT
UID:e097ebb0beb004232e4decd2922e0076@instaff.jobs
DTSTAMP:20260423T151008Z
LOCATION:MTC world of fashion\, Taunusstraße 45\, 80807 München
DTSTART;TZID=Europe/Brussels:20270312T070000Z
DTEND;TZID=Europe/Brussels:20270314T160000Z
SUMMARY:Münchner Immobilienmesse 2027
DESCRIPTION:https://www.google.com/maps/search/?api=1&query=MTC+world+of+fashion%2C+Taunusstraße+45%2C+80807+München
END:VEVENT
END:VCALENDAR