BEGIN:VCALENDAR
VERSION:2.0
PRODID:-//InStaff und Jobs GmbH
BEGIN:VEVENT
UID:461d12b2f632401849041b91323ce921@instaff.jobs
DTSTAMP:20260423T225013Z
LOCATION:Europa-Park\, Europa-Park-Straße 2\, 77977 Rust
DTSTART;TZID=Europe/Brussels:20270315T070000Z
DTEND;TZID=Europe/Brussels:20270318T160000Z
SUMMARY:CloudFest 2027
DESCRIPTION:https://www.google.com/maps/search/?api=1&query=Europa-Park%2C+Europa-Park-Straße+2%2C+77977+Rust
END:VEVENT
END:VCALENDAR