BEGIN:VCALENDAR
VERSION:2.0
PRODID:-//InStaff und Jobs GmbH
BEGIN:VEVENT
UID:c3e8e7d3ed6ebd868e788298c6d5bd3b@instaff.jobs
DTSTAMP:20260425T123230Z
LOCATION:Messe Stuttgart\, Messepiazza 1\, 70629 Stuttgart
DTSTART;TZID=Europe/Brussels:20270116T070000Z
DTEND;TZID=Europe/Brussels:20270124T160000Z
SUMMARY:CMT 2027
DESCRIPTION:https://www.google.com/maps/search/?api=1&query=Messe+Stuttgart%2C+Messepiazza+1%2C+70629+Stuttgart
END:VEVENT
END:VCALENDAR