BEGIN:VCALENDAR
VERSION:2.0
PRODID:-//InStaff und Jobs GmbH
BEGIN:VEVENT
UID:768bfce9701001cc22f34f607bf97c30@instaff.jobs
DTSTAMP:20260423T220334Z
LOCATION:Köln Messe Eingang Nord\, Messeplatz 1\, 50679 Köln
DTSTART;TZID=Europe/Brussels:20280321T070000Z
DTEND;TZID=Europe/Brussels:20280323T160000Z
SUMMARY:digitalBAU 2028
DESCRIPTION:https://www.google.com/maps/search/?api=1&query=Köln+Messe+Eingang+Nord%2C+Messeplatz+1%2C+50679+Köln
END:VEVENT
END:VCALENDAR