BEGIN:VCALENDAR
VERSION:2.0
PRODID:-//InStaff und Jobs GmbH
BEGIN:VEVENT
UID:a5a2f0fdeafeb55dde5ba38fc887d659@instaff.jobs
DTSTAMP:20260420T104455Z
LOCATION:Messe München\, Am Messesee 2\, 81829 München
DTSTART;TZID=Europe/Brussels:20280425T070000Z
DTEND;TZID=Europe/Brussels:20280428T160000Z
SUMMARY:analytica 2028
DESCRIPTION:https://www.google.com/maps/search/?api=1&query=Messe+München%2C+Am+Messesee+2%2C+81829+München
END:VEVENT
END:VCALENDAR